BEGIN:VCALENDAR
VERSION:2.0
PRODID:-//Episcopal Diocese of Alaska - ECPv6.15.20//NONSGML v1.0//EN
CALSCALE:GREGORIAN
METHOD:PUBLISH
X-WR-CALNAME:Episcopal Diocese of Alaska
X-ORIGINAL-URL:https://episcopalak.org
X-WR-CALDESC:Events for Episcopal Diocese of Alaska
REFRESH-INTERVAL;VALUE=DURATION:PT1H
X-Robots-Tag:noindex
X-PUBLISHED-TTL:PT1H
BEGIN:VTIMEZONE
TZID:America/Anchorage
BEGIN:DAYLIGHT
TZOFFSETFROM:-0900
TZOFFSETTO:-0800
TZNAME:AKDT
DTSTART:20160313T110000
END:DAYLIGHT
BEGIN:STANDARD
TZOFFSETFROM:-0800
TZOFFSETTO:-0900
TZNAME:AKST
DTSTART:20161106T100000
END:STANDARD
BEGIN:DAYLIGHT
TZOFFSETFROM:-0900
TZOFFSETTO:-0800
TZNAME:AKDT
DTSTART:20170312T110000
END:DAYLIGHT
BEGIN:STANDARD
TZOFFSETFROM:-0800
TZOFFSETTO:-0900
TZNAME:AKST
DTSTART:20171105T100000
END:STANDARD
BEGIN:DAYLIGHT
TZOFFSETFROM:-0900
TZOFFSETTO:-0800
TZNAME:AKDT
DTSTART:20180311T110000
END:DAYLIGHT
BEGIN:STANDARD
TZOFFSETFROM:-0800
TZOFFSETTO:-0900
TZNAME:AKST
DTSTART:20181104T100000
END:STANDARD
BEGIN:DAYLIGHT
TZOFFSETFROM:-0900
TZOFFSETTO:-0800
TZNAME:AKDT
DTSTART:20190310T110000
END:DAYLIGHT
BEGIN:STANDARD
TZOFFSETFROM:-0800
TZOFFSETTO:-0900
TZNAME:AKST
DTSTART:20191103T100000
END:STANDARD
BEGIN:DAYLIGHT
TZOFFSETFROM:-0900
TZOFFSETTO:-0800
TZNAME:AKDT
DTSTART:20200308T110000
END:DAYLIGHT
BEGIN:STANDARD
TZOFFSETFROM:-0800
TZOFFSETTO:-0900
TZNAME:AKST
DTSTART:20201101T100000
END:STANDARD
BEGIN:DAYLIGHT
TZOFFSETFROM:-0900
TZOFFSETTO:-0800
TZNAME:AKDT
DTSTART:20210314T110000
END:DAYLIGHT
BEGIN:STANDARD
TZOFFSETFROM:-0800
TZOFFSETTO:-0900
TZNAME:AKST
DTSTART:20211107T100000
END:STANDARD
BEGIN:DAYLIGHT
TZOFFSETFROM:-0900
TZOFFSETTO:-0800
TZNAME:AKDT
DTSTART:20220313T110000
END:DAYLIGHT
BEGIN:STANDARD
TZOFFSETFROM:-0800
TZOFFSETTO:-0900
TZNAME:AKST
DTSTART:20221106T100000
END:STANDARD
BEGIN:DAYLIGHT
TZOFFSETFROM:-0900
TZOFFSETTO:-0800
TZNAME:AKDT
DTSTART:20230312T110000
END:DAYLIGHT
BEGIN:STANDARD
TZOFFSETFROM:-0800
TZOFFSETTO:-0900
TZNAME:AKST
DTSTART:20231105T100000
END:STANDARD
BEGIN:DAYLIGHT
TZOFFSETFROM:-0900
TZOFFSETTO:-0800
TZNAME:AKDT
DTSTART:20240310T110000
END:DAYLIGHT
BEGIN:STANDARD
TZOFFSETFROM:-0800
TZOFFSETTO:-0900
TZNAME:AKST
DTSTART:20241103T100000
END:STANDARD
BEGIN:DAYLIGHT
TZOFFSETFROM:-0900
TZOFFSETTO:-0800
TZNAME:AKDT
DTSTART:20250309T110000
END:DAYLIGHT
BEGIN:STANDARD
TZOFFSETFROM:-0800
TZOFFSETTO:-0900
TZNAME:AKST
DTSTART:20251102T100000
END:STANDARD
BEGIN:DAYLIGHT
TZOFFSETFROM:-0900
TZOFFSETTO:-0800
TZNAME:AKDT
DTSTART:20260308T110000
END:DAYLIGHT
BEGIN:STANDARD
TZOFFSETFROM:-0800
TZOFFSETTO:-0900
TZNAME:AKST
DTSTART:20261101T100000
END:STANDARD
BEGIN:DAYLIGHT
TZOFFSETFROM:-0900
TZOFFSETTO:-0800
TZNAME:AKDT
DTSTART:20270314T110000
END:DAYLIGHT
BEGIN:STANDARD
TZOFFSETFROM:-0800
TZOFFSETTO:-0900
TZNAME:AKST
DTSTART:20271107T100000
END:STANDARD
END:VTIMEZONE
BEGIN:VEVENT
DTSTART;TZID=America/Anchorage:20260507T160000
DTEND;TZID=America/Anchorage:20260509T170000
DTSTAMP:20260421T130842
CREATED:20260402T210034Z
LAST-MODIFIED:20260407T225929Z
UID:4574-1778169600-1778346000@episcopalak.org
SUMMARY:Interior Deanery Meeting
DESCRIPTION:Theme: Sharing in God’s Work: Past\, Present & Future\nRegister Online for the Interior Deanery Meeting\n  \n___________________________________________________________________________________________________________ \n  \nInterior Deanery Registration Form (pdf) Paper Submission (online is the preferred method) \nCover Letter – Mailed 4.7.2026  \n2026 Agenda: Interior Deanery Meeting \nInterior Executive Committee Seats Up for Election in 2026  \n2026 Nominations for Diocesan Positions  \nNominee Profile Form (use to nominate for Diocesan open seats)  \n2025 Interior Deanery Minutes \nInterior Deanery Youth Grants online (preferred) \nInterior Deanery Youth Grants pdf \nInterior Deanery Building Repairs Grant online (preferred) \nInterior Deanery Building Repairs Grant pdf \nInterior Deanery St. Simeon & St. Anna Nomination Form (preferred) \nInterior Deanery St. Simeon & St. Anna Nomination Form pdf \nInterior Deanery St. Simeon & St. Anna Rule of Life \nPrison Ministry Grant Announcement 2026  \nFit Grant Available 2026 \n 
URL:https://episcopalak.org/event/interior-deanery-meeting-3/
LOCATION:St. Matthew’s Episcopal Church\, 1030 2nd Ave\, Fairbanks\, 99701\, United States
CATEGORIES:Meetings
END:VEVENT
BEGIN:VEVENT
DTSTART;TZID=America/Anchorage:20251001T080000
DTEND;TZID=America/Anchorage:20251004T170000
DTSTAMP:20260421T130842
CREATED:20250122T201443Z
LAST-MODIFIED:20251108T011655Z
UID:4028-1759305600-1759597200@episcopalak.org
SUMMARY:2025 Convention and Clergy Conference
DESCRIPTION:Clergy Conference: October 1-2\, 2025 @  St. Matthew’s Episcopal Church in Fairbanks\, Alaska. \nConvention: October 2-4\, 2025\, hosted by St. Matthew’s Episcopal Church in Fairbanks\, Alaska. \nContinue to check back for more details \nBishop’s Address\n2025 Convention Minutes\n2025 Convention Worship Booklet\nDiocese of Alaska Truth Telling Commission Background and Overview\nPrintable Documents Below \n________________________________________________________________________________ \n\n	01. 2025 Election Results\n\n	02. Resolution 2025-01\n\n	03. Resolution 2025-02\n\n	04. Courtesy Committee Resolution 2025\n\n	05. 2025 Convention Committees\n\n	06. 2025 Convention Roster\n\n	07.  2025 Ministry Reports\n\n	08. Congregational Pledge Report\n\n	09.  Approved 2025 Budget\n\n				 \n 
URL:https://episcopalak.org/event/2025-convention-and-clergy-conference/
LOCATION:St. Matthew’s Episcopal Church\, 1030 2nd Ave\, Fairbanks\, 99701\, United States
CATEGORIES:Convention
END:VEVENT
BEGIN:VEVENT
DTSTART;TZID=America/Anchorage:20250606T160000
DTEND;TZID=America/Anchorage:20250609T150000
DTSTAMP:20260421T130842
CREATED:20250409T205837Z
LAST-MODIFIED:20250411T170608Z
UID:4121-1749225600-1749481200@episcopalak.org
SUMMARY:Interior Deanery
DESCRIPTION:“Journey to Healing”\nRegister Online for the Interior Deanery Meeting – Click Here\n_____________________________________________________________________________ \nHard Copy (pdf) of Interior Deanery Registration Form for Paper Submission\nCover Letter- Mailed 4/10/2025\n2025 Agenda: Interior Deanery Meeting\nGuest Speaker: The Rev. Budde Van Dyke\nInterior Executive Committee Seats Up for Election in 2025\n2025 Nominations for Diocesan Positions\nNominee Profile Form (use to nominate for Diocesan open seats)\nInterior Society of St. Simeon and St. Anna Nomination Form
URL:https://episcopalak.org/event/interior-deanery/
LOCATION:Tanana Spirit Camp\, Yukon River (16 Miles Upriver from Tanana)
END:VEVENT
BEGIN:VEVENT
DTSTART;TZID=America/Anchorage:20250509T080000
DTEND;TZID=America/Anchorage:20250510T170000
DTSTAMP:20260421T130842
CREATED:20250409T205559Z
LAST-MODIFIED:20250411T170812Z
UID:4119-1746777600-1746896400@episcopalak.org
SUMMARY:Southeast Deanery
DESCRIPTION:2025 Nominations for Diocesan Positions
URL:https://episcopalak.org/event/southeast-deanery/
LOCATION:Holy Trinit\, Juneau\, 415 Fourth Street\, Juneau\, 99801\, United States
END:VEVENT
BEGIN:VEVENT
DTSTART;TZID=America/Anchorage:20250501T150000
DTEND;TZID=America/Anchorage:20250503T150000
DTSTAMP:20260421T130842
CREATED:20250409T205430Z
LAST-MODIFIED:20250411T170327Z
UID:4111-1746111600-1746284400@episcopalak.org
SUMMARY:South Central Deanery
DESCRIPTION:“Cutting Loose the Anchors”\n  \n2025 Nominations for Diocesan Positions
URL:https://episcopalak.org/event/south-central-deanery-2/
LOCATION:Aspen Suites Homer\, 91 Sterling Hwy\, Homer\, 99603
END:VEVENT
BEGIN:VEVENT
DTSTART;TZID=America/Anchorage:20241026T080000
DTEND;TZID=America/Anchorage:20241027T183000
DTSTAMP:20260421T130842
CREATED:20240829T233120Z
LAST-MODIFIED:20240905T222441Z
UID:3834-1729929600-1730053800@episcopalak.org
SUMMARY:Southeast Deanery Licensed Worship Leader Training Retreat
DESCRIPTION:___________________________________________________________________\nTravel Dates will be October 25 and 28th.\nSE Training Retreat Invite 2024\nRetreat Schedule 2024\nRegister Here\nCheck back for Updates
URL:https://episcopalak.org/event/southeast-deanery-licensed-worship-leading-training-retreat/
LOCATION:Ketchikan\, AK
CATEGORIES:Meetings
END:VEVENT
BEGIN:VEVENT
DTSTART;TZID=America/Anchorage:20241003T073000
DTEND;TZID=America/Anchorage:20241005T190000
DTSTAMP:20260421T130842
CREATED:20231114T203256Z
LAST-MODIFIED:20250122T201540Z
UID:3509-1727940600-1728154800@episcopalak.org
SUMMARY:2024 Convention and Clergy Conference
DESCRIPTION:Our Diocesan Convention was held October 3-5\, 2024.  It was hosted by All Saints Episcopal Church in Anchorage\, Alaska. \nContinue to check back for more details \n2024 Convention Minutes\nBishop’s Address\n2024 Worship Booklet (PDF)\n \n______________________________ \nPrintable Documents Below \n\n	01.  2024-01 Resolution honoring Hudson Stuck\n\n	02. 2024-02 Resolution honoring Walter Harper & John Fredson\n\n	03. 2024-03 Resolution Alaska Native Saints\n\n	04. 2024-04 Resolution Lay Leadership\n\n	05. 2024 Convention Committees\n\n	06. 2024 Delegate Roster\n\n	07. 2024 Election Results\n\n	08. 2024 Ministry Reports\n\n	09. Congregation Pledge Reports\n\n	10.  Approved 2025 Budget\n\n	11. 2024 Courtesy Resolution
URL:https://episcopalak.org/event/2024-convention-and-clergy-conference/
CATEGORIES:Convention
END:VEVENT
BEGIN:VEVENT
DTSTART;TZID=America/Anchorage:20240601T222100
DTEND;TZID=America/Anchorage:20240601T222100
DTSTAMP:20260421T130842
CREATED:20240404T221947Z
LAST-MODIFIED:20240408T184823Z
UID:3673-1717280460-1717280460@episcopalak.org
SUMMARY:Arctic Coast Deanery Meeting
DESCRIPTION:TBD- Date and time are to be determined;\n\nDiocesan Committee Seats up for Election in 2024 \nDiocesan Operating Budget Support for 2024 \nPrison Ministry Grant Announcement 2024 \nFIT Grant Available 2024 \nFuture Convention Survey Results \n  \n 
URL:https://episcopalak.org/event/arctic-coast-deanery-meeting-2/
LOCATION:Kivilina Epiphany Church
CATEGORIES:Meetings
END:VEVENT
BEGIN:VEVENT
DTSTART;TZID=America/Anchorage:20240502T080000
DTEND;TZID=America/Anchorage:20240504T170000
DTSTAMP:20260421T130842
CREATED:20240404T221639Z
LAST-MODIFIED:20240412T180338Z
UID:3670-1714636800-1714842000@episcopalak.org
SUMMARY:Interior Deanery Meeting
DESCRIPTION:Register Online for the Interior Deanery Meeting – Click Here\n\n\nHard Copy (pdf) of Interior Deanery Registration Form for Paper Submission\nCover Letter – Mailed 4.5.2024\n2024 Agenda: Interior Deanery Meeting\nInterior Executive Committee Seats Up for Election in 2024\nDiocesan Committee Seats up for Election in 2024\nNominee Profile Form (use to nominate for Diocesean open seats)\nDiocesan Operating Budget Support for 2024\n2023 Interior Deanery Minutes\nPrison Ministry Grant Announcement 2024\nFit Grant Available 2024\nFuture Convention Survey Results
URL:https://episcopalak.org/event/interior-deanery-meeting-2/
LOCATION:St. Matthew’s Episcopal Church\, 1030 2nd Ave\, Fairbanks\, 99701\, United States
CATEGORIES:Meetings
END:VEVENT
BEGIN:VEVENT
DTSTART;TZID=America/Anchorage:20240425T080000
DTEND;TZID=America/Anchorage:20240427T170000
DTSTAMP:20260421T130842
CREATED:20240404T221417Z
LAST-MODIFIED:20240412T180034Z
UID:3666-1714032000-1714237200@episcopalak.org
SUMMARY:South Central Deanery
DESCRIPTION:Diocesan Operating Budget Support for 2024\nSouth Central Pledge Report 2024\nDiocesan Committee Seats up for Election in 2024\nPrison Ministry Grant Announcement 2024\nFit Grant Available 2024\nFuture Convention Survey Results
URL:https://episcopalak.org/event/south-central-deanery/
LOCATION:Holy Spirit Retreat Center\, 10980 Hillside Drive\, Anchorage\, AK\, 99507
CATEGORIES:Meetings
END:VEVENT
BEGIN:VEVENT
DTSTART;TZID=America/Anchorage:20240412T080000
DTEND;TZID=America/Anchorage:20240413T170000
DTSTAMP:20260421T130842
CREATED:20240404T220932Z
LAST-MODIFIED:20240406T004005Z
UID:3662-1712908800-1713027600@episcopalak.org
SUMMARY:Southeast Deanery Meeting
DESCRIPTION:Diocesan Operating Budget Support for 2024\nSoutheast Pledge Report 2024\nDiocesan Committee Seats up for Election in 2024\nPrison Ministry Grant Announcement 2024\nFit Grant Available 2024\nFuture Convention Survey Results\n 
URL:https://episcopalak.org/event/southeast-deanery-meeting-3/
LOCATION:Virtual Online Platform
CATEGORIES:Meetings
END:VEVENT
BEGIN:VEVENT
DTSTART;TZID=America/Anchorage:20230927T130000
DTEND;TZID=America/Anchorage:20230930T200000
DTSTAMP:20260421T130842
CREATED:20230131T215031Z
LAST-MODIFIED:20231114T194704Z
UID:3035-1695819600-1696104000@episcopalak.org
SUMMARY:2023 Convention and Clergy Conference
DESCRIPTION:Our Diocesan Convention will be held September 28 – 30\, 2023 and the annual Clergy Conference will be held September 27-28.  Both will be hosted by Holy Trinity Episcopal Church in Juneau\, Alaska. \n2023 Convention Minutes\n________________________________ \nPrintable Documents Below \n\n	1- Bishop's Address\n\n	a-Convention Cover Letter\n\n	b-Convention Schedule\n\n	c- Clergy Conference Schedule\n\n	d-Convention Committee Descriptions\n\n	e-Nominations\, Positions Open\n\n	f- Nominations\, Names and Profiles Received\n\n	g- Ministry Reports\n\n	h- Congregational Pledge Reports\n\n	i- Proposed 2024 Budget\n\n	j- 2023 Proposed Convention Committees\n\n	k- 2023 Delegate Roster\n\n				 \n 
URL:https://episcopalak.org/event/2023-clergy-conference-and-convention/
LOCATION:Holy Trinit\, Juneau\, 415 Fourth Street\, Juneau\, 99801\, United States
CATEGORIES:Convention
END:VEVENT
BEGIN:VEVENT
DTSTART;TZID=America/Anchorage:20230504T160000
DTEND;TZID=America/Anchorage:20230506T170000
DTSTAMP:20260421T130842
CREATED:20230322T201728Z
LAST-MODIFIED:20230328T233814Z
UID:3194-1683216000-1683392400@episcopalak.org
SUMMARY:2023 Interior Deanery Meeting
DESCRIPTION:Register Online for the Interior Deanery Meeting Click Here\n____________________________________________________________________________________ \n\nHard Copy (pdf) of Interior Deanery Registration Form for paper submission\nCover Letter Mailed 2.17.2022\n2022 Agenda: Interior Deanery Meeting\nInterior Executive Committee Seats Up for Election in 2023\nDiocesan Committee Seats up for election in 2023\nNominee Profile Form (use to nominate for open seats) \n2022 Interior Deanery Notes/Minutes
URL:https://episcopalak.org/event/2023-interior-deanery-meeting/
CATEGORIES:Meetings
END:VEVENT
BEGIN:VEVENT
DTSTART;TZID=America/Anchorage:20220929T080000
DTEND;TZID=America/Anchorage:20221001T170000
DTSTAMP:20260421T130842
CREATED:20220620T195131Z
LAST-MODIFIED:20230921T183557Z
UID:2652-1664438400-1664643600@episcopalak.org
SUMMARY:2022 Convention and Clergy Conference
DESCRIPTION:The 47th Convention of the Episcopal Diocese of Alaska is to be held in Anchorage Alaska. \n2022 Convention Minutes\n  \nPrintable Documents Below \n\n	1. 2022 Convention Service Booklet\n\n	2. Bishop's Address\n\n	3. Bishop Address Committee Report\n\n	4. Election Results\n\n	5. Final Nominations Slate\n\n	6. Pre-filed Resolutions\, as passed\n\n	7. Approved Budget\n\n	8. Courtesy Committee Resolution\n\n	a. Frequently Asked Questions\n\n	b. 2022 Delegate Roster\n\n	d. Convention Cover Letter\n\n	e.  Convention Schedule\n\n	f- Clergy Conference Schedule\n\n	g. Committees of Convention\n\n	h. Nomination Delegate Packet\n\n	i. Ministry Reports\n\n	j. Pre-filed Resolution 2022-01:  Support of Indigenous Values in Training toward Ordination.\n\n	k. pre-Filed Resolution 2022-02:  Alaska’s General Convention Deputation.\n\n	l. Pre-Filed Resolution 2022-03:   Supporting The Episcopal Church’s Truth Telling about Indigenous Boarding Schools.\n\n	m. Proposed Changes to The Episcopal Church Constitution from 80th General Convention\n\n	n. 2023 Proposed Budget\n\n	o. 2022 Congregational Pledge Report
URL:https://episcopalak.org/event/2022-convention-and-clergy-conference/
CATEGORIES:Convention
END:VEVENT
BEGIN:VEVENT
DTSTART;TZID=America/Anchorage:20220506T080000
DTEND;TZID=America/Anchorage:20220508T170000
DTSTAMP:20260421T130842
CREATED:20220223T213225Z
LAST-MODIFIED:20220223T213225Z
UID:2566-1651824000-1652029200@episcopalak.org
SUMMARY:South Central Deanery Meeting
DESCRIPTION:
URL:https://episcopalak.org/event/south-central-deanery-meeting-2/
LOCATION:TBA
END:VEVENT
BEGIN:VEVENT
DTSTART;TZID=America/Anchorage:20220506T080000
DTEND;TZID=America/Anchorage:20220508T170000
DTSTAMP:20260421T130842
CREATED:20220223T212956Z
LAST-MODIFIED:20220223T212956Z
UID:2561-1651824000-1652029200@episcopalak.org
SUMMARY:Southeast Deanery Meeting
DESCRIPTION:
URL:https://episcopalak.org/event/southeast-deanery-meeting-2/
LOCATION:Virtual Online Platform
END:VEVENT
BEGIN:VEVENT
DTSTART;TZID=America/Anchorage:20220331T183000
DTEND;TZID=America/Anchorage:20220402T170000
DTSTAMP:20260421T130842
CREATED:20220218T010208Z
LAST-MODIFIED:20220330T232639Z
UID:2501-1648751400-1648918800@episcopalak.org
SUMMARY:2022 Interior Deanery Meeting
DESCRIPTION:Register Online for the Interior Deanery Meeting    Click Here \n\n  \nHard Copy (pdf) of Interior Deanery Registration Form for paper submission \nCover Letter mailed 2.17.2022 \n2022 Agenda: Interior Deanery Meeting \nInterior Executive Committee Seats up for election in 2022 \nDiocesan Committee Seats up for election in 2022 \nNominee Profile Form (use to nominate for open seats) \nProposed Bylaw Changes \nSociety of St. Simeon & St. Anna: 2021 Diocesan Convention Motion passed \nResolution on Boarding Schools: passed unanimously at 2021 Diocesan Convention \n2019 Interior Deanery Notes/Minutes \n 
URL:https://episcopalak.org/event/2501/
LOCATION:Westmark Hotel\, 813 Noble St\, Fairbanks\, Alaska\, 99701
CATEGORIES:Meetings
END:VEVENT
BEGIN:VEVENT
DTSTART;TZID=America/Anchorage:20211002T100000
DTEND;TZID=America/Anchorage:20211009T153000
DTSTAMP:20260421T130842
CREATED:20210601T121008Z
LAST-MODIFIED:20220125T201328Z
UID:2015-1633168800-1633793400@episcopalak.org
SUMMARY:2021 Convention and Clergy Conference
DESCRIPTION:46th Annual Convention of the Episcopal Diocese of Alaska\n\nOur Lady of Alaska\nWatch Bishop’s Address on YouTube  \nRead Bishop’s Address\nWatch Day 1 (10/2) of Convention\, with breaks removed\, on YouTube  \nWatch Day 2 (10/9) of Convention\, with breaks removed\,  on YouTube \nWatch Canon Lydia’s Keynote Address on YouTube\nRead Canon Lydia Bucklin’s Convention Worship Service Sermon\n  \n\nElection Results\nCourtesy Resolution\nApproved Budget\nConvention Minutes 2021\n\n__________________________________________________________________________________________ \n\n	a. Final Schedule 46th Convention\n\n	b.  Committees of Convention\n\n	c. Keynote Speaker: Canon Lydia Kelsey Bucklin\n\n	d. Delegate Roster\n\n	e. Nominations as of September 30\, 2021\n\n	f. 2020 45th Convention Minutes\n\n	g. Pre-Filed Resolution 2021-01: Resolution Of Support for the Work of Truth and Reconciliation by the Whole Episcopal Church and its History of Boarding Schools for Alaska Native\, Native American\, and Indigenous People.\n\n	h. Ministry Reports\n\n	i. Congregational Pledges to the Diocese\n\n	j. 2020 Financial Reports\n\n	k. 2022 Budget\n\n				\n  \n 
URL:https://episcopalak.org/event/2021-convention-clergy-conference/
LOCATION:Virtual Online Platform
CATEGORIES:Convention
END:VEVENT
BEGIN:VEVENT
DTSTART;TZID=America/Anchorage:20201003T100000
DTEND;TZID=America/Anchorage:20201010T140000
DTSTAMP:20260421T130842
CREATED:20200203T201620Z
LAST-MODIFIED:20210205T011843Z
UID:875-1601719200-1602338400@episcopalak.org
SUMMARY:2020 Convention
DESCRIPTION:45th Annual Convention of the Episcopal Diocese of Alaska Online Virtual\nOctober 3\, 2020: 10:00am – 2:00pm\nOctober 10\,2020: 10:00am – 2:00pm.\n                                                    ⇒  2020 Convention Livestream\n\n                                                    \n2020 Convention Resources\n\n	0. 2020 Convention Minutes and Attachments 1-4\n\n	1. Bishop's Address\n\n	2. Bishop's Address Reflection Questions\n\n	3) Bishop's Address Committee Report\n\n	4) Courtesy Committee Resolution Slides\n\n	a)  Convention Memo (a-k are 2020 Convention Packet)\n\n	b)   Zoom Meeting Best Practices\n\n	c)   Convention Committees\n\n	d)  Delegate Roster\n\n	e)   Nominations\n\n	f)  Schedule for Convention\n\n	g)   2019 Minutes\n\n	h)   Ministry Reports\n\n	i)   Congregational Pledges\n\n	j)  Financial Results\n\n	k)   2021 Budget\n\n				 \n  \n 
URL:https://episcopalak.org/event/2020-conference-convention/
LOCATION:Virtual Online Platform
CATEGORIES:Convention
END:VEVENT
BEGIN:VEVENT
DTSTART;TZID=America/Anchorage:20200502T080000
DTEND;TZID=America/Anchorage:20200502T170000
DTSTAMP:20260421T130842
CREATED:20200202T201703Z
LAST-MODIFIED:20200202T201703Z
UID:806-1588406400-1588438800@episcopalak.org
SUMMARY:South Central Deanery Meeting
DESCRIPTION:St. Augustines\, Homer.
URL:https://episcopalak.org/event/south-central-deanery-meeting/
CATEGORIES:Meetings
END:VEVENT
BEGIN:VEVENT
DTSTART;TZID=America/Anchorage:20200423T080000
DTEND;TZID=America/Anchorage:20200425T170000
DTSTAMP:20260421T130842
CREATED:20200202T201433Z
LAST-MODIFIED:20200202T201820Z
UID:804-1587628800-1587834000@episcopalak.org
SUMMARY:Interior Deanery Meeting
DESCRIPTION:St. Matthew’s\, Fairbanks.
URL:https://episcopalak.org/event/interior-deanery-meeting/
CATEGORIES:Meetings
END:VEVENT
BEGIN:VEVENT
DTSTART;TZID=America/Anchorage:20200213T080000
DTEND;TZID=America/Anchorage:20200216T080000
DTSTAMP:20260421T130842
CREATED:20200202T201050Z
LAST-MODIFIED:20200202T201830Z
UID:801-1581580800-1581840000@episcopalak.org
SUMMARY:Arctic Coast Deanery Meeting
DESCRIPTION:St. George’s\, Kotzebue.
URL:https://episcopalak.org/event/arctic-coast-deanery-meeting/
CATEGORIES:Meetings
END:VEVENT
BEGIN:VEVENT
DTSTART;TZID=America/Anchorage:20191003T080000
DTEND;TZID=America/Anchorage:20191006T170000
DTSTAMP:20260421T130842
CREATED:20200202T202258Z
LAST-MODIFIED:20200424T001302Z
UID:814-1570089600-1570381200@episcopalak.org
SUMMARY:2019 Conference & Convention
DESCRIPTION:2019 Convention Resources\n\n2019 Convention Minutes\nAttachment 1 – Delegate List\nAttachment 2 – Committees\nAttachment 3 – Positions open for election\nAttachment 4 – Bishop’s Address Summary\nAttachment 5 – Budget\nPre-Convention Packet sent 9/19/19\nSchedule for Convention 2019\n2020 Proposed Budget\nNominations Open for Election & Brief Committees Overview of those open for Election/Appointment\nNominee Profile Form\n\nNominations from Deanery Meetings\n\nCommission on Ministry\nStanding Committee\nFIT\nGeneral Convention\n\n\n2019 St. Simeon & St. Anna Nominees\nSchedule for Clergy Conference 2019\n\nConvention Meeting\n\nConvention Cover Letter 2019\nConvention Registration Form 2019\nClergy Conference Registration Form 2019\nInstruction to Committees of Diocesan Convention\nHotels in Anchorage (at your own expense)\nDisplay Table Application\nDelegate’s Frequently Asked Questions\n\n\nONLINE Convention Registration\nONLINE Clergy Registration
URL:https://episcopalak.org/event/2019-conference-convention/
CATEGORIES:Convention
END:VEVENT
BEGIN:VEVENT
DTSTART;TZID=America/Anchorage:20181004T080000
DTEND;TZID=America/Anchorage:20181007T170000
DTSTAMP:20260421T130842
CREATED:20200202T202201Z
LAST-MODIFIED:20200203T200745Z
UID:812-1538640000-1538931600@episcopalak.org
SUMMARY:2018 Conference & Convention
DESCRIPTION:2018 Convention Documents\n\n2018 Final Convention Minutes\n\nAttachment 1 to Minutes – Delegate List\nAttachment 2 to Minutes – Committee List\nAttachment 3 to Minutes – Budget\nAttachment 4 to Minutes – Amendment to EDA Constitution and Canons
URL:https://episcopalak.org/event/2018-conference-convention/
CATEGORIES:Convention
END:VEVENT
BEGIN:VEVENT
DTSTART;TZID=America/Anchorage:20171028T080000
DTEND;TZID=America/Anchorage:20171102T170000
DTSTAMP:20260421T130842
CREATED:20200202T202016Z
LAST-MODIFIED:20200203T200537Z
UID:810-1509177600-1509642000@episcopalak.org
SUMMARY:2017 Convention
DESCRIPTION:2017 Convention Documents\n\n2017 Convention Minutes Final\n\nAttachment 1\nAttachment 2\nAttachment 3\nAttachment 4 – Proposed revisions to the Constitution and Canons of the Diocese of Alaska.\nAttachment 5
URL:https://episcopalak.org/event/2017-convention/
CATEGORIES:Convention
END:VEVENT
END:VCALENDAR