BEGIN:VCALENDAR
VERSION:2.0
PRODID:-//Episcopal Diocese of Alaska - ECPv6.15.20//NONSGML v1.0//EN
CALSCALE:GREGORIAN
METHOD:PUBLISH
X-WR-CALNAME:Episcopal Diocese of Alaska
X-ORIGINAL-URL:https://episcopalak.org
X-WR-CALDESC:Events for Episcopal Diocese of Alaska
REFRESH-INTERVAL;VALUE=DURATION:PT1H
X-Robots-Tag:noindex
X-PUBLISHED-TTL:PT1H
BEGIN:VTIMEZONE
TZID:America/Anchorage
BEGIN:DAYLIGHT
TZOFFSETFROM:-0900
TZOFFSETTO:-0800
TZNAME:AKDT
DTSTART:20250309T110000
END:DAYLIGHT
BEGIN:STANDARD
TZOFFSETFROM:-0800
TZOFFSETTO:-0900
TZNAME:AKST
DTSTART:20251102T100000
END:STANDARD
BEGIN:DAYLIGHT
TZOFFSETFROM:-0900
TZOFFSETTO:-0800
TZNAME:AKDT
DTSTART:20260308T110000
END:DAYLIGHT
BEGIN:STANDARD
TZOFFSETFROM:-0800
TZOFFSETTO:-0900
TZNAME:AKST
DTSTART:20261101T100000
END:STANDARD
BEGIN:DAYLIGHT
TZOFFSETFROM:-0900
TZOFFSETTO:-0800
TZNAME:AKDT
DTSTART:20270314T110000
END:DAYLIGHT
BEGIN:STANDARD
TZOFFSETFROM:-0800
TZOFFSETTO:-0900
TZNAME:AKST
DTSTART:20271107T100000
END:STANDARD
END:VTIMEZONE
BEGIN:VEVENT
DTSTART;VALUE=DATE:20261003
DTEND;VALUE=DATE:20261011
DTSTAMP:20260421T154856
CREATED:20260121T202524Z
LAST-MODIFIED:20260410T212617Z
UID:4511-1790985600-1791676799@episcopalak.org
SUMMARY:2026 Convention and Clergy Conference
DESCRIPTION:Saturday\, October 3rd and Saturday October 10th\nClergy Conference to be announced. \nThe Convention will be held ONLINE ONLY \nPlease check back for more information \n  \n_________________________________________________________________________________________________ \nPrintable Documents Below
URL:https://episcopalak.org/event/2026-convention-and-clergy-conference/
LOCATION:Virtual Online Platform
CATEGORIES:Convention
END:VEVENT
END:VCALENDAR