BEGIN:VCALENDAR
VERSION:2.0
PRODID:-//Episcopal Diocese of Alaska - ECPv6.15.20//NONSGML v1.0//EN
CALSCALE:GREGORIAN
METHOD:PUBLISH
X-ORIGINAL-URL:https://episcopalak.org
X-WR-CALDESC:Events for Episcopal Diocese of Alaska
REFRESH-INTERVAL;VALUE=DURATION:PT1H
X-Robots-Tag:noindex
X-PUBLISHED-TTL:PT1H
BEGIN:VTIMEZONE
TZID:America/Anchorage
BEGIN:DAYLIGHT
TZOFFSETFROM:-0900
TZOFFSETTO:-0800
TZNAME:AKDT
DTSTART:20210314T110000
END:DAYLIGHT
BEGIN:STANDARD
TZOFFSETFROM:-0800
TZOFFSETTO:-0900
TZNAME:AKST
DTSTART:20211107T100000
END:STANDARD
BEGIN:DAYLIGHT
TZOFFSETFROM:-0900
TZOFFSETTO:-0800
TZNAME:AKDT
DTSTART:20220313T110000
END:DAYLIGHT
BEGIN:STANDARD
TZOFFSETFROM:-0800
TZOFFSETTO:-0900
TZNAME:AKST
DTSTART:20221106T100000
END:STANDARD
BEGIN:DAYLIGHT
TZOFFSETFROM:-0900
TZOFFSETTO:-0800
TZNAME:AKDT
DTSTART:20230312T110000
END:DAYLIGHT
BEGIN:STANDARD
TZOFFSETFROM:-0800
TZOFFSETTO:-0900
TZNAME:AKST
DTSTART:20231105T100000
END:STANDARD
END:VTIMEZONE
BEGIN:VEVENT
DTSTART;TZID=America/Anchorage:20220506T080000
DTEND;TZID=America/Anchorage:20220508T170000
DTSTAMP:20260424T143100
CREATED:20220223T212956Z
LAST-MODIFIED:20220223T212956Z
UID:2561-1651824000-1652029200@episcopalak.org
SUMMARY:Southeast Deanery Meeting
DESCRIPTION:
URL:https://episcopalak.org/event/southeast-deanery-meeting-2/
LOCATION:Virtual Online Platform
END:VEVENT
BEGIN:VEVENT
DTSTART;TZID=America/Anchorage:20220506T080000
DTEND;TZID=America/Anchorage:20220508T170000
DTSTAMP:20260424T143100
CREATED:20220223T213225Z
LAST-MODIFIED:20220223T213225Z
UID:2566-1651824000-1652029200@episcopalak.org
SUMMARY:South Central Deanery Meeting
DESCRIPTION:
URL:https://episcopalak.org/event/south-central-deanery-meeting-2/
LOCATION:TBA
END:VEVENT
END:VCALENDAR