BEGIN:VCALENDAR
VERSION:2.0
PRODID:-//Episcopal Diocese of Alaska - ECPv6.15.20//NONSGML v1.0//EN
CALSCALE:GREGORIAN
METHOD:PUBLISH
X-WR-CALNAME:Episcopal Diocese of Alaska
X-ORIGINAL-URL:https://episcopalak.org
X-WR-CALDESC:Events for Episcopal Diocese of Alaska
REFRESH-INTERVAL;VALUE=DURATION:PT1H
X-Robots-Tag:noindex
X-PUBLISHED-TTL:PT1H
BEGIN:VTIMEZONE
TZID:America/Anchorage
BEGIN:DAYLIGHT
TZOFFSETFROM:-0900
TZOFFSETTO:-0800
TZNAME:AKDT
DTSTART:20210314T110000
END:DAYLIGHT
BEGIN:STANDARD
TZOFFSETFROM:-0800
TZOFFSETTO:-0900
TZNAME:AKST
DTSTART:20211107T100000
END:STANDARD
BEGIN:DAYLIGHT
TZOFFSETFROM:-0900
TZOFFSETTO:-0800
TZNAME:AKDT
DTSTART:20220313T110000
END:DAYLIGHT
BEGIN:STANDARD
TZOFFSETFROM:-0800
TZOFFSETTO:-0900
TZNAME:AKST
DTSTART:20221106T100000
END:STANDARD
BEGIN:DAYLIGHT
TZOFFSETFROM:-0900
TZOFFSETTO:-0800
TZNAME:AKDT
DTSTART:20230312T110000
END:DAYLIGHT
BEGIN:STANDARD
TZOFFSETFROM:-0800
TZOFFSETTO:-0900
TZNAME:AKST
DTSTART:20231105T100000
END:STANDARD
END:VTIMEZONE
BEGIN:VEVENT
DTSTART;TZID=America/Anchorage:20220929T080000
DTEND;TZID=America/Anchorage:20221001T170000
DTSTAMP:20260424T064237
CREATED:20220620T195131Z
LAST-MODIFIED:20230921T183557Z
UID:2652-1664438400-1664643600@episcopalak.org
SUMMARY:2022 Convention and Clergy Conference
DESCRIPTION:The 47th Convention of the Episcopal Diocese of Alaska is to be held in Anchorage Alaska. \n2022 Convention Minutes\n  \nPrintable Documents Below \n\n	1. 2022 Convention Service Booklet\n\n	2. Bishop's Address\n\n	3. Bishop Address Committee Report\n\n	4. Election Results\n\n	5. Final Nominations Slate\n\n	6. Pre-filed Resolutions\, as passed\n\n	7. Approved Budget\n\n	8. Courtesy Committee Resolution\n\n	a. Frequently Asked Questions\n\n	b. 2022 Delegate Roster\n\n	d. Convention Cover Letter\n\n	e.  Convention Schedule\n\n	f- Clergy Conference Schedule\n\n	g. Committees of Convention\n\n	h. Nomination Delegate Packet\n\n	i. Ministry Reports\n\n	j. Pre-filed Resolution 2022-01:  Support of Indigenous Values in Training toward Ordination.\n\n	k. pre-Filed Resolution 2022-02:  Alaska’s General Convention Deputation.\n\n	l. Pre-Filed Resolution 2022-03:   Supporting The Episcopal Church’s Truth Telling about Indigenous Boarding Schools.\n\n	m. Proposed Changes to The Episcopal Church Constitution from 80th General Convention\n\n	n. 2023 Proposed Budget\n\n	o. 2022 Congregational Pledge Report
URL:https://episcopalak.org/event/2022-convention-and-clergy-conference/
CATEGORIES:Convention
END:VEVENT
END:VCALENDAR