BEGIN:VCALENDAR
VERSION:2.0
PRODID:-//Episcopal Diocese of Alaska - ECPv6.15.20//NONSGML v1.0//EN
CALSCALE:GREGORIAN
METHOD:PUBLISH
X-ORIGINAL-URL:https://episcopalak.org
X-WR-CALDESC:Events for Episcopal Diocese of Alaska
REFRESH-INTERVAL;VALUE=DURATION:PT1H
X-Robots-Tag:noindex
X-PUBLISHED-TTL:PT1H
BEGIN:VTIMEZONE
TZID:America/Anchorage
BEGIN:DAYLIGHT
TZOFFSETFROM:-0900
TZOFFSETTO:-0800
TZNAME:AKDT
DTSTART:20220313T110000
END:DAYLIGHT
BEGIN:STANDARD
TZOFFSETFROM:-0800
TZOFFSETTO:-0900
TZNAME:AKST
DTSTART:20221106T100000
END:STANDARD
BEGIN:DAYLIGHT
TZOFFSETFROM:-0900
TZOFFSETTO:-0800
TZNAME:AKDT
DTSTART:20230312T110000
END:DAYLIGHT
BEGIN:STANDARD
TZOFFSETFROM:-0800
TZOFFSETTO:-0900
TZNAME:AKST
DTSTART:20231105T100000
END:STANDARD
BEGIN:DAYLIGHT
TZOFFSETFROM:-0900
TZOFFSETTO:-0800
TZNAME:AKDT
DTSTART:20240310T110000
END:DAYLIGHT
BEGIN:STANDARD
TZOFFSETFROM:-0800
TZOFFSETTO:-0900
TZNAME:AKST
DTSTART:20241103T100000
END:STANDARD
END:VTIMEZONE
BEGIN:VEVENT
DTSTART;TZID=America/Anchorage:20230504T160000
DTEND;TZID=America/Anchorage:20230506T170000
DTSTAMP:20260423T200452
CREATED:20230322T201728Z
LAST-MODIFIED:20230328T233814Z
UID:3194-1683216000-1683392400@episcopalak.org
SUMMARY:2023 Interior Deanery Meeting
DESCRIPTION:Register Online for the Interior Deanery Meeting Click Here\n____________________________________________________________________________________ \n\nHard Copy (pdf) of Interior Deanery Registration Form for paper submission\nCover Letter Mailed 2.17.2022\n2022 Agenda: Interior Deanery Meeting\nInterior Executive Committee Seats Up for Election in 2023\nDiocesan Committee Seats up for election in 2023\nNominee Profile Form (use to nominate for open seats) \n2022 Interior Deanery Notes/Minutes
URL:https://episcopalak.org/event/2023-interior-deanery-meeting/
CATEGORIES:Meetings
END:VEVENT
END:VCALENDAR