BEGIN:VCALENDAR
VERSION:2.0
PRODID:-//Episcopal Diocese of Alaska - ECPv6.15.20//NONSGML v1.0//EN
CALSCALE:GREGORIAN
METHOD:PUBLISH
X-WR-CALNAME:Episcopal Diocese of Alaska
X-ORIGINAL-URL:https://episcopalak.org
X-WR-CALDESC:Events for Episcopal Diocese of Alaska
REFRESH-INTERVAL;VALUE=DURATION:PT1H
X-Robots-Tag:noindex
X-PUBLISHED-TTL:PT1H
BEGIN:VTIMEZONE
TZID:America/Anchorage
BEGIN:DAYLIGHT
TZOFFSETFROM:-0900
TZOFFSETTO:-0800
TZNAME:AKDT
DTSTART:20230312T110000
END:DAYLIGHT
BEGIN:STANDARD
TZOFFSETFROM:-0800
TZOFFSETTO:-0900
TZNAME:AKST
DTSTART:20231105T100000
END:STANDARD
BEGIN:DAYLIGHT
TZOFFSETFROM:-0900
TZOFFSETTO:-0800
TZNAME:AKDT
DTSTART:20240310T110000
END:DAYLIGHT
BEGIN:STANDARD
TZOFFSETFROM:-0800
TZOFFSETTO:-0900
TZNAME:AKST
DTSTART:20241103T100000
END:STANDARD
BEGIN:DAYLIGHT
TZOFFSETFROM:-0900
TZOFFSETTO:-0800
TZNAME:AKDT
DTSTART:20250309T110000
END:DAYLIGHT
BEGIN:STANDARD
TZOFFSETFROM:-0800
TZOFFSETTO:-0900
TZNAME:AKST
DTSTART:20251102T100000
END:STANDARD
END:VTIMEZONE
BEGIN:VEVENT
DTSTART;TZID=America/Anchorage:20241003T073000
DTEND;TZID=America/Anchorage:20241005T190000
DTSTAMP:20260422T160618
CREATED:20231114T203256Z
LAST-MODIFIED:20250122T201540Z
UID:3509-1727940600-1728154800@episcopalak.org
SUMMARY:2024 Convention and Clergy Conference
DESCRIPTION:Our Diocesan Convention was held October 3-5\, 2024.  It was hosted by All Saints Episcopal Church in Anchorage\, Alaska. \nContinue to check back for more details \n2024 Convention Minutes\nBishop’s Address\n2024 Worship Booklet (PDF)\n \n______________________________ \nPrintable Documents Below \n\n	01.  2024-01 Resolution honoring Hudson Stuck\n\n	02. 2024-02 Resolution honoring Walter Harper & John Fredson\n\n	03. 2024-03 Resolution Alaska Native Saints\n\n	04. 2024-04 Resolution Lay Leadership\n\n	05. 2024 Convention Committees\n\n	06. 2024 Delegate Roster\n\n	07. 2024 Election Results\n\n	08. 2024 Ministry Reports\n\n	09. Congregation Pledge Reports\n\n	10.  Approved 2025 Budget\n\n	11. 2024 Courtesy Resolution
URL:https://episcopalak.org/event/2024-convention-and-clergy-conference/
CATEGORIES:Convention
END:VEVENT
BEGIN:VEVENT
DTSTART;TZID=America/Anchorage:20241026T080000
DTEND;TZID=America/Anchorage:20241027T183000
DTSTAMP:20260422T160618
CREATED:20240829T233120Z
LAST-MODIFIED:20240905T222441Z
UID:3834-1729929600-1730053800@episcopalak.org
SUMMARY:Southeast Deanery Licensed Worship Leader Training Retreat
DESCRIPTION:___________________________________________________________________\nTravel Dates will be October 25 and 28th.\nSE Training Retreat Invite 2024\nRetreat Schedule 2024\nRegister Here\nCheck back for Updates
URL:https://episcopalak.org/event/southeast-deanery-licensed-worship-leading-training-retreat/
LOCATION:Ketchikan\, AK
CATEGORIES:Meetings
END:VEVENT
END:VCALENDAR